BEGIN:VCALENDAR
VERSION:2.0
PRODID:-//Naranjo Museum - ECPv6.15.20//NONSGML v1.0//EN
CALSCALE:GREGORIAN
METHOD:PUBLISH
X-WR-CALNAME:Naranjo Museum
X-ORIGINAL-URL:https://naranjomuseum.org
X-WR-CALDESC:Events for Naranjo Museum
REFRESH-INTERVAL;VALUE=DURATION:PT1H
X-Robots-Tag:noindex
X-PUBLISHED-TTL:PT1H
BEGIN:VTIMEZONE
TZID:America/Chicago
BEGIN:DAYLIGHT
TZOFFSETFROM:-0600
TZOFFSETTO:-0500
TZNAME:CDT
DTSTART:20250309T080000
END:DAYLIGHT
BEGIN:STANDARD
TZOFFSETFROM:-0500
TZOFFSETTO:-0600
TZNAME:CST
DTSTART:20251102T070000
END:STANDARD
BEGIN:DAYLIGHT
TZOFFSETFROM:-0600
TZOFFSETTO:-0500
TZNAME:CDT
DTSTART:20260308T080000
END:DAYLIGHT
BEGIN:STANDARD
TZOFFSETFROM:-0500
TZOFFSETTO:-0600
TZNAME:CST
DTSTART:20261101T070000
END:STANDARD
BEGIN:DAYLIGHT
TZOFFSETFROM:-0600
TZOFFSETTO:-0500
TZNAME:CDT
DTSTART:20270314T080000
END:DAYLIGHT
BEGIN:STANDARD
TZOFFSETFROM:-0500
TZOFFSETTO:-0600
TZNAME:CST
DTSTART:20271107T070000
END:STANDARD
END:VTIMEZONE
BEGIN:VEVENT
DTSTART;TZID=America/Chicago:20260801T180000
DTEND;TZID=America/Chicago:20260801T220000
DTSTAMP:20260424T052443
CREATED:20260209T012245Z
LAST-MODIFIED:20260209T024259Z
UID:4233-1785607200-1785621600@naranjomuseum.org
SUMMARY:Movies in The Park:  Zootopia 2
DESCRIPTION:The park opens for the event at 6pm and the movies start at sundown. Movies usually wrap up by 10pm. \nBrave rabbit cop Judy Hopps and her friend\, the fox Nick Wilde\, team up again to crack a new case\, the most perilous and intricate of their careers. – Rated PG
URL:https://naranjomuseum.org/calendar/movies-in-the-park-zootopia-2/
LOCATION:Naranjo Museum of Natural History\, 5104 S. First Street\, Lufkin\, TX\, 75904\, United States
CATEGORIES:Movies in the Park
ATTACH;FMTTYPE=image/webp:https://naranjomuseum.org/wp-content/uploads/2026/02/Zootopia-2.webp
ORGANIZER;CN="Naranjo Museum":MAILTO:info@naranjomuseum.org
END:VEVENT
BEGIN:VEVENT
DTSTART;TZID=America/Chicago:20260822T180000
DTEND;TZID=America/Chicago:20260822T220000
DTSTAMP:20260424T052443
CREATED:20260209T012450Z
LAST-MODIFIED:20260209T024335Z
UID:4236-1787421600-1787436000@naranjomuseum.org
SUMMARY:Movies in The Park: The Croods
DESCRIPTION:The park opens for the event at 6pm and the movies start at sundown. Movies usually wrap up by 10pm. \nDuring the prehistoric Pliocene era\, a courageous teen helps a family as they go on an epic albeit perilous journey to locate a new home after their cave is destroyed during an environmental catastrophe. – Rated PG
URL:https://naranjomuseum.org/calendar/movies-in-the-park-the-croods/
LOCATION:Naranjo Museum of Natural History\, 5104 S. First Street\, Lufkin\, TX\, 75904\, United States
CATEGORIES:Movies in the Park
ATTACH;FMTTYPE=image/webp:https://naranjomuseum.org/wp-content/uploads/2026/02/The-Croods.webp
ORGANIZER;CN="Naranjo Museum":MAILTO:info@naranjomuseum.org
END:VEVENT
END:VCALENDAR