BEGIN:VCALENDAR
VERSION:2.0
PRODID:-//Naranjo Museum - ECPv6.15.20//NONSGML v1.0//EN
CALSCALE:GREGORIAN
METHOD:PUBLISH
X-WR-CALNAME:Naranjo Museum
X-ORIGINAL-URL:https://naranjomuseum.org
X-WR-CALDESC:Events for Naranjo Museum
REFRESH-INTERVAL;VALUE=DURATION:PT1H
X-Robots-Tag:noindex
X-PUBLISHED-TTL:PT1H
BEGIN:VTIMEZONE
TZID:America/Chicago
BEGIN:DAYLIGHT
TZOFFSETFROM:-0600
TZOFFSETTO:-0500
TZNAME:CDT
DTSTART:20250309T080000
END:DAYLIGHT
BEGIN:STANDARD
TZOFFSETFROM:-0500
TZOFFSETTO:-0600
TZNAME:CST
DTSTART:20251102T070000
END:STANDARD
BEGIN:DAYLIGHT
TZOFFSETFROM:-0600
TZOFFSETTO:-0500
TZNAME:CDT
DTSTART:20260308T080000
END:DAYLIGHT
BEGIN:STANDARD
TZOFFSETFROM:-0500
TZOFFSETTO:-0600
TZNAME:CST
DTSTART:20261101T070000
END:STANDARD
BEGIN:DAYLIGHT
TZOFFSETFROM:-0600
TZOFFSETTO:-0500
TZNAME:CDT
DTSTART:20270314T080000
END:DAYLIGHT
BEGIN:STANDARD
TZOFFSETFROM:-0500
TZOFFSETTO:-0600
TZNAME:CST
DTSTART:20271107T070000
END:STANDARD
END:VTIMEZONE
BEGIN:VEVENT
DTSTART;TZID=America/Chicago:20260627T180000
DTEND;TZID=America/Chicago:20260627T220000
DTSTAMP:20260424T220231
CREATED:20260209T012111Z
LAST-MODIFIED:20260209T024224Z
UID:4230-1782583200-1782597600@naranjomuseum.org
SUMMARY:Movies in The Park: Holes
DESCRIPTION:The park opens for the event at 6pm and the movies start at sundown. Movies usually wrap up by 10pm. \nFaithful\, entertaining adaptation of Louis Sachar’s popular\, prize-winning children’s novel about a bizarre juvenile-correctional facility run by an intimidating warden. – Rated PG
URL:https://naranjomuseum.org/calendar/movies-in-the-park-holes/
LOCATION:Naranjo Museum of Natural History\, 5104 S. First Street\, Lufkin\, TX\, 75904\, United States
CATEGORIES:Movies in the Park
ATTACH;FMTTYPE=image/webp:https://naranjomuseum.org/wp-content/uploads/2026/02/Holes.webp
ORGANIZER;CN="Naranjo Museum":MAILTO:info@naranjomuseum.org
END:VEVENT
BEGIN:VEVENT
DTSTART;TZID=America/Chicago:20260516T180000
DTEND;TZID=America/Chicago:20260516T220000
DTSTAMP:20260424T220231
CREATED:20260209T011936Z
LAST-MODIFIED:20260209T024140Z
UID:4226-1778954400-1778968800@naranjomuseum.org
SUMMARY:Movies in The Park: The Lorax
DESCRIPTION:The park opens for the event at 6pm and the movies start at sundown. Movies usually wrap up by 10pm. \nIn a land where real vegetation is rare\, a young boy (voice of Zac Efron) seeks to impress his pretty neighbor by getting a tree. But in the process\, he encounters the Lorax\, a cantankerous yet endearing creature intent on preserving the forest. – Rated PG
URL:https://naranjomuseum.org/calendar/movies-in-the-park-the-lorax/
LOCATION:Naranjo Museum of Natural History\, 5104 S. First Street\, Lufkin\, TX\, 75904\, United States
CATEGORIES:Movies in the Park
ATTACH;FMTTYPE=image/webp:https://naranjomuseum.org/wp-content/uploads/2026/02/The-Lorax.webp
ORGANIZER;CN="Naranjo Museum":MAILTO:info@naranjomuseum.org
END:VEVENT
BEGIN:VEVENT
DTSTART;TZID=America/Chicago:20260411T180000
DTEND;TZID=America/Chicago:20260411T220000
DTSTAMP:20260424T220231
CREATED:20260209T011440Z
LAST-MODIFIED:20260209T024105Z
UID:4223-1775930400-1775944800@naranjomuseum.org
SUMMARY:Movies In The Park: Apollo 13
DESCRIPTION:The park opens for the event at 6pm and the movies start at sundown. Movies usually wrap up by 10pm. \nA chronicle of the 1970 lunar mission that suffered an explosion in space that disabled the ship\, leaving the astronauts to endure the possibility of suffocation or freezing to death\, as Mission Control works frenetically to devise a plan to get the men safely home. Based on actual events. – Rated PG
URL:https://naranjomuseum.org/calendar/movies-in-the-park-apollo-13/
LOCATION:Naranjo Museum of Natural History\, 5104 S. First Street\, Lufkin\, TX\, 75904\, United States
CATEGORIES:Movies in the Park
ATTACH;FMTTYPE=image/webp:https://naranjomuseum.org/wp-content/uploads/2026/02/Apollo-13-1.webp
ORGANIZER;CN="Naranjo Museum":MAILTO:info@naranjomuseum.org
END:VEVENT
BEGIN:VEVENT
DTSTART;TZID=America/Chicago:20260327T160000
DTEND;TZID=America/Chicago:20260327T223000
DTSTAMP:20260424T220231
CREATED:20260303T191448Z
LAST-MODIFIED:20260303T191715Z
UID:4499-1774627200-1774650600@naranjomuseum.org
SUMMARY:Night at The Museum
DESCRIPTION:Join us for a sock-hop-themed Night at The Museum event for the children of gala attendees. \n\nChildcare\nDance Party\nCrafts\nSnacks\nDressing Up Encouraged\n\nRegistration Form \n 
URL:https://naranjomuseum.org/calendar/night-at-the-museum-2/
LOCATION:Naranjo Museum of Natural History\, 5104 S. First Street\, Lufkin\, TX\, 75904\, United States
CATEGORIES:Night At The Museum
ATTACH;FMTTYPE=image/png:https://naranjomuseum.org/wp-content/uploads/2026/03/Gala-NATM-Flyer-7-x-5-in.png
ORGANIZER;CN="Naranjo Museum":MAILTO:info@naranjomuseum.org
END:VEVENT
BEGIN:VEVENT
DTSTART;TZID=America/Chicago:20260327T080000
DTEND;TZID=America/Chicago:20260327T170000
DTSTAMP:20260424T220231
CREATED:20260129T182531Z
LAST-MODIFIED:20260205T013024Z
UID:3082-1774598400-1774630800@naranjomuseum.org
SUMMARY:Dancing with Dinos
DESCRIPTION:Tickets can be purchased in person at the museum\, or over the phone by calling 936-639-3466 \nSponsorship Opportunities \nBeing part of Dancing with Dinos is a great way to help the Naranjo Museum raise funds to help improve our exhibits\, increase community engagement efforts\, expand educational programs\, and continue to serve the East Texas community. \nTo become a sponsor please fill out our gala sponsor form below for more information about what being a sponsor funds view our sponsor flyer below. \n2026 Gala Sponsor Form | PDF\nSponsorFlyer | PDF\n \nLIVE/SILENT Auction item Donations \nTo donate an item to our auction please fill out our auction item form and send it to info@naranjomuseum.org \nDancing-with-Dinos-Auction-Handout.docx
URL:https://naranjomuseum.org/calendar/dancing-with-dinos/
LOCATION:Pitser Garrison Convention Center\, 601 N. 2nd Street\, Lufkin\, TX\, 75901\, United States
CATEGORIES:Dancing with Dinos
ATTACH;FMTTYPE=image/png:https://naranjomuseum.org/wp-content/uploads/2025/12/Save-the-Date-3.png
ORGANIZER;CN="Erin Gentry":MAILTO:eringentry@naranjomuseum.org
END:VEVENT
BEGIN:VEVENT
DTSTART;TZID=America/Chicago:20260321T180000
DTEND;TZID=America/Chicago:20260321T220000
DTSTAMP:20260424T220231
CREATED:20260206T150104Z
LAST-MODIFIED:20260319T211755Z
UID:3910-1774116000-1774130400@naranjomuseum.org
SUMMARY:Movies In The Park: Happy Feet
DESCRIPTION:The park opens for the event at 6pm and the movies start at sundown. Movies usually wrap up by 10pm. \nFree with museum Membership. $10/person for nonmembers. Children 3 and under Free \nHappy Feet is set deep in Antarctica. Into the land of Emperor Penguins\, where each needs a heart song to attract a soul mate\, a penguin is born who cannot sing. Our hero Mumble\, son of Memphis and Norma Jean\, is the worst singer in the world…however\, as it happens\, he is a brilliant tap dancer! – Rated PG
URL:https://naranjomuseum.org/calendar/movies-in-the-park-happy-feet/
LOCATION:Naranjo Museum of Natural History\, 5104 S. First Street\, Lufkin\, TX\, 75904\, United States
CATEGORIES:Movies in the Park
ATTACH;FMTTYPE=image/webp:https://naranjomuseum.org/wp-content/uploads/2026/02/Happy-Feet.webp
ORGANIZER;CN="Naranjo Museum":MAILTO:info@naranjomuseum.org
END:VEVENT
BEGIN:VEVENT
DTSTART;VALUE=DATE:20260309
DTEND;VALUE=DATE:20260514
DTSTAMP:20260424T220231
CREATED:20260129T181552Z
LAST-MODIFIED:20260129T181552Z
UID:3080-1773014400-1778716799@naranjomuseum.org
SUMMARY:Spring Break Discovery Camp
DESCRIPTION:Half-Day and Full-Day Options \nAges: 5-8 and 9-13 \nSpring Mini Camps will run the week of March 9-13 2026 \nEarly Bird Registration for Museum Members begins Monday\, January 26th. \nOpen registration begins February 9th! \n½ Day options are 8am-12pm or 1pm-5pm and cost: VIP $70\, Member: $80\, Non Member $90. \nFull Day: 8am-5pm with a lunch from 12pm-1pm and cost: VIP $140\, Member $160\, Non Member $180 \nLunch addition for ½ day only cost: $25/day \nSingle Day Drop In (full day only) cost: $50/day \nSpace in each age section is limited to 15 spots each – registration is first come first serve! The camp registration packet can be found below. Please email your completed registration to: info@naranjomuseum.org \n2026MuseumSpringCampForms.docx\nDownload
URL:https://naranjomuseum.org/calendar/spring-break-discovery-camp/
LOCATION:Naranjo Museum of Natural History\, 5104 S. First Street\, Lufkin\, TX\, 75904\, United States
ATTACH;FMTTYPE=image/jpeg:https://naranjomuseum.org/wp-content/uploads/2025/03/Summer-Camp-1-1-scaled.jpg
ORGANIZER;CN="Naranjo Museum":MAILTO:info@naranjomuseum.org
END:VEVENT
BEGIN:VEVENT
DTSTART;TZID=America/Chicago:20260214T170000
DTEND;TZID=America/Chicago:20260214T210000
DTSTAMP:20260424T220231
CREATED:20260129T163115Z
LAST-MODIFIED:20260205T205221Z
UID:2995-1771088400-1771102800@naranjomuseum.org
SUMMARY:Night at The Museum
DESCRIPTION:Date Night Childcare at the Museum!\n\nParents deserve a night out- and the kids deserve a night of fun\, too! While you enjoy your evening\, your children will have a blast at the museum.\n\nWhat’s Included:\n\nSafe\, supervised play in the museum and event room from 5p-10p\nPizza\nMovies\nCrafts to take home\n\nYou relax. They explore. Everyone wins. \n\nThis is an exclusive perk for museum members only; if you are interested in becoming a member contact the museum today! (936)639-3466\n\n\nRegistration Form | PDF
URL:https://naranjomuseum.org/calendar/night-at-the-museum/
LOCATION:Naranjo Museum of Natural History\, 5104 S. First Street\, Lufkin\, TX\, 75904\, United States
CATEGORIES:Night At The Museum
ATTACH;FMTTYPE=image/png:https://naranjomuseum.org/wp-content/uploads/2026/01/Night-at-the-Museum-4-1.png
ORGANIZER;CN="Naranjo Museum":MAILTO:info@naranjomuseum.org
END:VEVENT
END:VCALENDAR