BEGIN:VCALENDAR
VERSION:2.0
PRODID:-//Naranjo Museum - ECPv6.15.20//NONSGML v1.0//EN
CALSCALE:GREGORIAN
METHOD:PUBLISH
X-WR-CALNAME:Naranjo Museum
X-ORIGINAL-URL:https://naranjomuseum.org
X-WR-CALDESC:Events for Naranjo Museum
REFRESH-INTERVAL;VALUE=DURATION:PT1H
X-Robots-Tag:noindex
X-PUBLISHED-TTL:PT1H
BEGIN:VTIMEZONE
TZID:America/Chicago
BEGIN:DAYLIGHT
TZOFFSETFROM:-0600
TZOFFSETTO:-0500
TZNAME:CDT
DTSTART:20250309T080000
END:DAYLIGHT
BEGIN:STANDARD
TZOFFSETFROM:-0500
TZOFFSETTO:-0600
TZNAME:CST
DTSTART:20251102T070000
END:STANDARD
BEGIN:DAYLIGHT
TZOFFSETFROM:-0600
TZOFFSETTO:-0500
TZNAME:CDT
DTSTART:20260308T080000
END:DAYLIGHT
BEGIN:STANDARD
TZOFFSETFROM:-0500
TZOFFSETTO:-0600
TZNAME:CST
DTSTART:20261101T070000
END:STANDARD
BEGIN:DAYLIGHT
TZOFFSETFROM:-0600
TZOFFSETTO:-0500
TZNAME:CDT
DTSTART:20270314T080000
END:DAYLIGHT
BEGIN:STANDARD
TZOFFSETFROM:-0500
TZOFFSETTO:-0600
TZNAME:CST
DTSTART:20271107T070000
END:STANDARD
END:VTIMEZONE
BEGIN:VEVENT
DTSTART;VALUE=DATE:20260309
DTEND;VALUE=DATE:20260514
DTSTAMP:20260424T135926
CREATED:20260129T181552Z
LAST-MODIFIED:20260129T181552Z
UID:3080-1773014400-1778716799@naranjomuseum.org
SUMMARY:Spring Break Discovery Camp
DESCRIPTION:Half-Day and Full-Day Options \nAges: 5-8 and 9-13 \nSpring Mini Camps will run the week of March 9-13 2026 \nEarly Bird Registration for Museum Members begins Monday\, January 26th. \nOpen registration begins February 9th! \n½ Day options are 8am-12pm or 1pm-5pm and cost: VIP $70\, Member: $80\, Non Member $90. \nFull Day: 8am-5pm with a lunch from 12pm-1pm and cost: VIP $140\, Member $160\, Non Member $180 \nLunch addition for ½ day only cost: $25/day \nSingle Day Drop In (full day only) cost: $50/day \nSpace in each age section is limited to 15 spots each – registration is first come first serve! The camp registration packet can be found below. Please email your completed registration to: info@naranjomuseum.org \n2026MuseumSpringCampForms.docx\nDownload
URL:https://naranjomuseum.org/calendar/spring-break-discovery-camp/
LOCATION:Naranjo Museum of Natural History\, 5104 S. First Street\, Lufkin\, TX\, 75904\, United States
ATTACH;FMTTYPE=image/jpeg:https://naranjomuseum.org/wp-content/uploads/2025/03/Summer-Camp-1-1-scaled.jpg
ORGANIZER;CN="Naranjo Museum":MAILTO:info@naranjomuseum.org
END:VEVENT
BEGIN:VEVENT
DTSTART;TZID=America/Chicago:20260516T180000
DTEND;TZID=America/Chicago:20260516T220000
DTSTAMP:20260424T135926
CREATED:20260209T011936Z
LAST-MODIFIED:20260209T024140Z
UID:4226-1778954400-1778968800@naranjomuseum.org
SUMMARY:Movies in The Park: The Lorax
DESCRIPTION:The park opens for the event at 6pm and the movies start at sundown. Movies usually wrap up by 10pm. \nIn a land where real vegetation is rare\, a young boy (voice of Zac Efron) seeks to impress his pretty neighbor by getting a tree. But in the process\, he encounters the Lorax\, a cantankerous yet endearing creature intent on preserving the forest. – Rated PG
URL:https://naranjomuseum.org/calendar/movies-in-the-park-the-lorax/
LOCATION:Naranjo Museum of Natural History\, 5104 S. First Street\, Lufkin\, TX\, 75904\, United States
CATEGORIES:Movies in the Park
ATTACH;FMTTYPE=image/webp:https://naranjomuseum.org/wp-content/uploads/2026/02/The-Lorax.webp
ORGANIZER;CN="Naranjo Museum":MAILTO:info@naranjomuseum.org
END:VEVENT
END:VCALENDAR